BEGIN:VCALENDAR
VERSION:2.0
PRODID:-//Freimaurer - Zur Oberbergischen Treue - ECPv6.15.20//NONSGML v1.0//EN
CALSCALE:GREGORIAN
METHOD:PUBLISH
X-WR-CALNAME:Freimaurer - Zur Oberbergischen Treue
X-ORIGINAL-URL:https://freimaurer-gummersbach.de
X-WR-CALDESC:Veranstaltungen für Freimaurer - Zur Oberbergischen Treue
REFRESH-INTERVAL;VALUE=DURATION:PT1H
X-Robots-Tag:noindex
X-PUBLISHED-TTL:PT1H
BEGIN:VTIMEZONE
TZID:Europe/Berlin
BEGIN:DAYLIGHT
TZOFFSETFROM:+0100
TZOFFSETTO:+0200
TZNAME:CEST
DTSTART:20250330T010000
END:DAYLIGHT
BEGIN:STANDARD
TZOFFSETFROM:+0200
TZOFFSETTO:+0100
TZNAME:CET
DTSTART:20251026T010000
END:STANDARD
BEGIN:DAYLIGHT
TZOFFSETFROM:+0100
TZOFFSETTO:+0200
TZNAME:CEST
DTSTART:20260329T010000
END:DAYLIGHT
BEGIN:STANDARD
TZOFFSETFROM:+0200
TZOFFSETTO:+0100
TZNAME:CET
DTSTART:20261025T010000
END:STANDARD
BEGIN:DAYLIGHT
TZOFFSETFROM:+0100
TZOFFSETTO:+0200
TZNAME:CEST
DTSTART:20270328T010000
END:DAYLIGHT
BEGIN:STANDARD
TZOFFSETFROM:+0200
TZOFFSETTO:+0100
TZNAME:CET
DTSTART:20271031T010000
END:STANDARD
END:VTIMEZONE
BEGIN:VEVENT
DTSTART;TZID=Europe/Berlin:20260422T193000
DTEND;TZID=Europe/Berlin:20260422T220000
DTSTAMP:20260420T062931
CREATED:20260104T114220Z
LAST-MODIFIED:20260314T075809Z
UID:727-1776886200-1776895200@freimaurer-gummersbach.de
SUMMARY:TA III
DESCRIPTION:Tempelarbeit im Meistergrad\, gemeinsam mit AM in Köln. \nNur für Brüder Freimaurermeister. \n  \nErhebung von Br. Stefan S.
URL:https://freimaurer-gummersbach.de/events/ta-i-5/
LOCATION:Logenhaus Siegen\, Wellersbergstr. 46\, Siegen\, 57072
ORGANIZER;CN="Zur Oberbergischen Treue e.V.":MAILTO:sekretaer@freimaurer-gummersbach.de
END:VEVENT
BEGIN:VEVENT
DTSTART;TZID=Europe/Berlin:20260429T193000
DTEND;TZID=Europe/Berlin:20260429T220000
DTSTAMP:20260420T062931
CREATED:20260104T113934Z
LAST-MODIFIED:20260121T153542Z
UID:723-1777491000-1777500000@freimaurer-gummersbach.de
SUMMARY:Bruderabend
DESCRIPTION:Bruderabend mit Aktivität\, nur für Brüder Freimaurer
URL:https://freimaurer-gummersbach.de/events/bruderabend-15/
ORGANIZER;CN="Zur Oberbergischen Treue e.V.":MAILTO:sekretaer@freimaurer-gummersbach.de
END:VEVENT
END:VCALENDAR