BEGIN:VCALENDAR
VERSION:2.0
PRODID:-//Freimaurer - Zur Oberbergischen Treue - ECPv6.15.20//NONSGML v1.0//EN
CALSCALE:GREGORIAN
METHOD:PUBLISH
X-ORIGINAL-URL:https://freimaurer-gummersbach.de
X-WR-CALDESC:Veranstaltungen für Freimaurer - Zur Oberbergischen Treue
REFRESH-INTERVAL;VALUE=DURATION:PT1H
X-Robots-Tag:noindex
X-PUBLISHED-TTL:PT1H
BEGIN:VTIMEZONE
TZID:Europe/Berlin
BEGIN:DAYLIGHT
TZOFFSETFROM:+0100
TZOFFSETTO:+0200
TZNAME:CEST
DTSTART:20250330T010000
END:DAYLIGHT
BEGIN:STANDARD
TZOFFSETFROM:+0200
TZOFFSETTO:+0100
TZNAME:CET
DTSTART:20251026T010000
END:STANDARD
BEGIN:DAYLIGHT
TZOFFSETFROM:+0100
TZOFFSETTO:+0200
TZNAME:CEST
DTSTART:20260329T010000
END:DAYLIGHT
BEGIN:STANDARD
TZOFFSETFROM:+0200
TZOFFSETTO:+0100
TZNAME:CET
DTSTART:20261025T010000
END:STANDARD
BEGIN:DAYLIGHT
TZOFFSETFROM:+0100
TZOFFSETTO:+0200
TZNAME:CEST
DTSTART:20270328T010000
END:DAYLIGHT
BEGIN:STANDARD
TZOFFSETFROM:+0200
TZOFFSETTO:+0100
TZNAME:CET
DTSTART:20271031T010000
END:STANDARD
END:VTIMEZONE
BEGIN:VEVENT
DTSTART;TZID=Europe/Berlin:20261202T193000
DTEND;TZID=Europe/Berlin:20261202T210000
DTSTAMP:20260424T202647
CREATED:20260104T132012Z
LAST-MODIFIED:20260104T132012Z
UID:782-1796239800-1796245200@freimaurer-gummersbach.de
SUMMARY:TA III - inkl. Erhebung
DESCRIPTION:Tempelarbeit im Meistergrad mit Erhebung. \nNur für Brüder Meister. \n  \nErhebung Br. Ulli \n 
URL:https://freimaurer-gummersbach.de/events/ta-iii-inkl-erhebung/
LOCATION:Logenhaus Siegen\, Wellersbergstr. 46\, Siegen\, 57072
ORGANIZER;CN="Zur Oberbergischen Treue e.V.":MAILTO:sekretaer@freimaurer-gummersbach.de
END:VEVENT
BEGIN:VEVENT
DTSTART;TZID=Europe/Berlin:20261209T193000
DTEND;TZID=Europe/Berlin:20261209T210000
DTSTAMP:20260424T202647
CREATED:20260104T132326Z
LAST-MODIFIED:20260104T132326Z
UID:784-1796844600-1796850000@freimaurer-gummersbach.de
SUMMARY:Bruderabend
DESCRIPTION:Bruderabend. \nNur für Br. Freimaurer. \n  \nBesprechung Arbeitsplan 2027
URL:https://freimaurer-gummersbach.de/events/bruderabend-23/
LOCATION:Brauhaus Gummersbach\, Hindenburgstraße 15\, Gummersbach\, 51643\, Germany
ORGANIZER;CN="Zur Oberbergischen Treue e.V.":MAILTO:sekretaer@freimaurer-gummersbach.de
END:VEVENT
BEGIN:VEVENT
DTSTART;TZID=Europe/Berlin:20261212T180000
DTEND;TZID=Europe/Berlin:20261212T220000
DTSTAMP:20260424T202647
CREATED:20260104T132728Z
LAST-MODIFIED:20260104T132851Z
UID:786-1797098400-1797112800@freimaurer-gummersbach.de
SUMMARY:Weihnachtsessen
DESCRIPTION:Weihnachtsessen \nMit allen Brüdern\, Schwestern und Familienangehörige. \nWeitere Informationen folgen.
URL:https://freimaurer-gummersbach.de/events/weihnachtsessen/
ORGANIZER;CN="Zur Oberbergischen Treue e.V.":MAILTO:sekretaer@freimaurer-gummersbach.de
END:VEVENT
END:VCALENDAR