BEGIN:VCALENDAR
VERSION:2.0
PRODID:-//Freimaurer - Zur Oberbergischen Treue - ECPv6.15.20//NONSGML v1.0//EN
CALSCALE:GREGORIAN
METHOD:PUBLISH
X-WR-CALNAME:Freimaurer - Zur Oberbergischen Treue
X-ORIGINAL-URL:https://freimaurer-gummersbach.de
X-WR-CALDESC:Veranstaltungen für Freimaurer - Zur Oberbergischen Treue
REFRESH-INTERVAL;VALUE=DURATION:PT1H
X-Robots-Tag:noindex
X-PUBLISHED-TTL:PT1H
BEGIN:VTIMEZONE
TZID:Europe/Berlin
BEGIN:DAYLIGHT
TZOFFSETFROM:+0100
TZOFFSETTO:+0200
TZNAME:CEST
DTSTART:20250330T010000
END:DAYLIGHT
BEGIN:STANDARD
TZOFFSETFROM:+0200
TZOFFSETTO:+0100
TZNAME:CET
DTSTART:20251026T010000
END:STANDARD
BEGIN:DAYLIGHT
TZOFFSETFROM:+0100
TZOFFSETTO:+0200
TZNAME:CEST
DTSTART:20260329T010000
END:DAYLIGHT
BEGIN:STANDARD
TZOFFSETFROM:+0200
TZOFFSETTO:+0100
TZNAME:CET
DTSTART:20261025T010000
END:STANDARD
BEGIN:DAYLIGHT
TZOFFSETFROM:+0100
TZOFFSETTO:+0200
TZNAME:CEST
DTSTART:20270328T010000
END:DAYLIGHT
BEGIN:STANDARD
TZOFFSETFROM:+0200
TZOFFSETTO:+0100
TZNAME:CET
DTSTART:20271031T010000
END:STANDARD
END:VTIMEZONE
BEGIN:VEVENT
DTSTART;TZID=Europe/Berlin:20261111T193000
DTEND;TZID=Europe/Berlin:20261111T210000
DTSTAMP:20260424T182339
CREATED:20260104T130128Z
LAST-MODIFIED:20260104T130128Z
UID:773-1794425400-1794430800@freimaurer-gummersbach.de
SUMMARY:Bruderabend
DESCRIPTION:Bruderabend. \nNur für Brüder Freimaurer. \nMeisterzeichnung Br. Ulli
URL:https://freimaurer-gummersbach.de/events/bruderabend-22/
LOCATION:Brauhaus Gummersbach\, Hindenburgstraße 15\, Gummersbach\, 51643\, Germany
ORGANIZER;CN="Zur Oberbergischen Treue e.V.":MAILTO:sekretaer@freimaurer-gummersbach.de
END:VEVENT
BEGIN:VEVENT
DTSTART;TZID=Europe/Berlin:20261118T193000
DTEND;TZID=Europe/Berlin:20261118T210000
DTSTAMP:20260424T182339
CREATED:20260104T131236Z
LAST-MODIFIED:20260104T131301Z
UID:777-1795030200-1795035600@freimaurer-gummersbach.de
SUMMARY:Gästeabend - Workshop Teil III
DESCRIPTION:Gästeabend – Teil 3 des Workshops. \nNur für Suchende\, die bereits seit dem ersten Teil des Workshops teilnehmen.
URL:https://freimaurer-gummersbach.de/events/gaesteabend-workshop-teil-iii/
LOCATION:Brauhaus Gummersbach\, Hindenburgstraße 15\, Gummersbach\, 51643\, Germany
ORGANIZER;CN="Zur Oberbergischen Treue e.V.":MAILTO:sekretaer@freimaurer-gummersbach.de
END:VEVENT
BEGIN:VEVENT
DTSTART;TZID=Europe/Berlin:20261125T193000
DTEND;TZID=Europe/Berlin:20261125T210000
DTSTAMP:20260424T182339
CREATED:20260104T131520Z
LAST-MODIFIED:20260104T131520Z
UID:780-1795635000-1795640400@freimaurer-gummersbach.de
SUMMARY:TA I - Trauerloge
DESCRIPTION:Tempelarbeit im Lehrlingsgrad – Trauerloge \nNur für Brüder Freimaurer.
URL:https://freimaurer-gummersbach.de/events/ta-i-trauerloge/
LOCATION:Logenhaus Köln
ORGANIZER;CN="Zur Oberbergischen Treue e.V.":MAILTO:sekretaer@freimaurer-gummersbach.de
END:VEVENT
END:VCALENDAR