BEGIN:VCALENDAR
VERSION:2.0
PRODID:-//Freimaurer - Zur Oberbergischen Treue - ECPv6.15.20//NONSGML v1.0//EN
CALSCALE:GREGORIAN
METHOD:PUBLISH
X-ORIGINAL-URL:https://freimaurer-gummersbach.de
X-WR-CALDESC:Veranstaltungen für Freimaurer - Zur Oberbergischen Treue
REFRESH-INTERVAL;VALUE=DURATION:PT1H
X-Robots-Tag:noindex
X-PUBLISHED-TTL:PT1H
BEGIN:VTIMEZONE
TZID:Europe/Berlin
BEGIN:DAYLIGHT
TZOFFSETFROM:+0100
TZOFFSETTO:+0200
TZNAME:CEST
DTSTART:20250330T010000
END:DAYLIGHT
BEGIN:STANDARD
TZOFFSETFROM:+0200
TZOFFSETTO:+0100
TZNAME:CET
DTSTART:20251026T010000
END:STANDARD
BEGIN:DAYLIGHT
TZOFFSETFROM:+0100
TZOFFSETTO:+0200
TZNAME:CEST
DTSTART:20260329T010000
END:DAYLIGHT
BEGIN:STANDARD
TZOFFSETFROM:+0200
TZOFFSETTO:+0100
TZNAME:CET
DTSTART:20261025T010000
END:STANDARD
BEGIN:DAYLIGHT
TZOFFSETFROM:+0100
TZOFFSETTO:+0200
TZNAME:CEST
DTSTART:20270328T010000
END:DAYLIGHT
BEGIN:STANDARD
TZOFFSETFROM:+0200
TZOFFSETTO:+0100
TZNAME:CET
DTSTART:20271031T010000
END:STANDARD
END:VTIMEZONE
BEGIN:VEVENT
DTSTART;VALUE=DATE:20260901
DTEND;VALUE=DATE:20260902
DTSTAMP:20260424T135240
CREATED:20260104T121749Z
LAST-MODIFIED:20260104T133051Z
UID:751-1788220800-1788307199@freimaurer-gummersbach.de
SUMMARY:Logenferien - Ende
DESCRIPTION:Logenferien vom 25.06.2026 – 01.09.2026
URL:https://freimaurer-gummersbach.de/events/logenferien-ende/
ORGANIZER;CN="Zur Oberbergischen Treue e.V.":MAILTO:sekretaer@freimaurer-gummersbach.de
END:VEVENT
BEGIN:VEVENT
DTSTART;TZID=Europe/Berlin:20260902T193000
DTEND;TZID=Europe/Berlin:20260902T210000
DTSTAMP:20260424T135240
CREATED:20260104T123818Z
LAST-MODIFIED:20260104T123818Z
UID:761-1788377400-1788382800@freimaurer-gummersbach.de
SUMMARY:TA I - Stiftungsfest
DESCRIPTION:Tempelarbeit im Lehrlingsgrad – Stiftungsfest \nNur für Brüder Freimaurer.
URL:https://freimaurer-gummersbach.de/events/ta-i-stiftungsfest/
LOCATION:Logenhaus Siegen\, Wellersbergstr. 46\, Siegen\, 57072
ORGANIZER;CN="Zur Oberbergischen Treue e.V.":MAILTO:sekretaer@freimaurer-gummersbach.de
END:VEVENT
BEGIN:VEVENT
DTSTART;TZID=Europe/Berlin:20260909T193000
DTEND;TZID=Europe/Berlin:20260909T210000
DTSTAMP:20260424T135240
CREATED:20260104T124019Z
LAST-MODIFIED:20260104T130205Z
UID:763-1788982200-1788987600@freimaurer-gummersbach.de
SUMMARY:Bruderabend
DESCRIPTION:Bruderabend. \nNur für Brüder Freimaurer. \nGesellenzeichnung von Br. Christian
URL:https://freimaurer-gummersbach.de/events/bruderabend-20/
LOCATION:Brauhaus Gummersbach\, Hindenburgstraße 15\, Gummersbach\, 51643\, Germany
ORGANIZER;CN="Zur Oberbergischen Treue e.V.":MAILTO:sekretaer@freimaurer-gummersbach.de
END:VEVENT
BEGIN:VEVENT
DTSTART;TZID=Europe/Berlin:20260923T193000
DTEND;TZID=Europe/Berlin:20260923T210000
DTSTAMP:20260424T135240
CREATED:20260104T124336Z
LAST-MODIFIED:20260104T124336Z
UID:765-1790191800-1790197200@freimaurer-gummersbach.de
SUMMARY:Gästeabend - Workshop Teil I
DESCRIPTION:Start der 6-teiligen Workshop-Reihe für Suchende. \nAnmeldung beim Bruder Sekretär: sekretaer@freimaurer-gummersbach.de
URL:https://freimaurer-gummersbach.de/events/gaesteabend-workshop-teil-i/
LOCATION:Brauhaus Gummersbach\, Hindenburgstraße 15\, Gummersbach\, 51643\, Germany
ORGANIZER;CN="Zur Oberbergischen Treue e.V.":MAILTO:sekretaer@freimaurer-gummersbach.de
END:VEVENT
END:VCALENDAR