BEGIN:VCALENDAR
VERSION:2.0
PRODID:-//Freimaurer - Zur Oberbergischen Treue - ECPv6.15.20//NONSGML v1.0//EN
CALSCALE:GREGORIAN
METHOD:PUBLISH
X-WR-CALNAME:Freimaurer - Zur Oberbergischen Treue
X-ORIGINAL-URL:https://freimaurer-gummersbach.de
X-WR-CALDESC:Veranstaltungen für Freimaurer - Zur Oberbergischen Treue
REFRESH-INTERVAL;VALUE=DURATION:PT1H
X-Robots-Tag:noindex
X-PUBLISHED-TTL:PT1H
BEGIN:VTIMEZONE
TZID:Europe/Berlin
BEGIN:DAYLIGHT
TZOFFSETFROM:+0100
TZOFFSETTO:+0200
TZNAME:CEST
DTSTART:20250330T010000
END:DAYLIGHT
BEGIN:STANDARD
TZOFFSETFROM:+0200
TZOFFSETTO:+0100
TZNAME:CET
DTSTART:20251026T010000
END:STANDARD
BEGIN:DAYLIGHT
TZOFFSETFROM:+0100
TZOFFSETTO:+0200
TZNAME:CEST
DTSTART:20260329T010000
END:DAYLIGHT
BEGIN:STANDARD
TZOFFSETFROM:+0200
TZOFFSETTO:+0100
TZNAME:CET
DTSTART:20261025T010000
END:STANDARD
BEGIN:DAYLIGHT
TZOFFSETFROM:+0100
TZOFFSETTO:+0200
TZNAME:CEST
DTSTART:20270328T010000
END:DAYLIGHT
BEGIN:STANDARD
TZOFFSETFROM:+0200
TZOFFSETTO:+0100
TZNAME:CET
DTSTART:20271031T010000
END:STANDARD
END:VTIMEZONE
BEGIN:VEVENT
DTSTART;TZID=Europe/Berlin:20260711T150000
DTEND;TZID=Europe/Berlin:20260711T200000
DTSTAMP:20260422T123259
CREATED:20260104T122025Z
LAST-MODIFIED:20260104T123111Z
UID:753-1783782000-1783800000@freimaurer-gummersbach.de
SUMMARY:Wandertag
DESCRIPTION:Gemeinsame Sommeraktivität. \nAlle Schwestern und Familienangehörige der Brüder sind herzlich eingeladen.
URL:https://freimaurer-gummersbach.de/events/schwesternfest/
ORGANIZER;CN="Zur Oberbergischen Treue e.V.":MAILTO:sekretaer@freimaurer-gummersbach.de
END:VEVENT
BEGIN:VEVENT
DTSTART;TZID=Europe/Berlin:20260729T193000
DTEND;TZID=Europe/Berlin:20260729T210000
DTSTAMP:20260422T123259
CREATED:20260104T123358Z
LAST-MODIFIED:20260104T123358Z
UID:757-1785353400-1785358800@freimaurer-gummersbach.de
SUMMARY:Sommerstammtisch
DESCRIPTION:Sommerstammtisch mit allen Brüdern\, Schwestern und Suchenden. \nWeitere Informationen folgen.
URL:https://freimaurer-gummersbach.de/events/sommerstammtisch/
ORGANIZER;CN="Zur Oberbergischen Treue e.V.":MAILTO:sekretaer@freimaurer-gummersbach.de
END:VEVENT
END:VCALENDAR