BEGIN:VCALENDAR
VERSION:2.0
PRODID:-//Freimaurer - Zur Oberbergischen Treue - ECPv6.15.20//NONSGML v1.0//EN
CALSCALE:GREGORIAN
METHOD:PUBLISH
X-ORIGINAL-URL:https://freimaurer-gummersbach.de
X-WR-CALDESC:Veranstaltungen für Freimaurer - Zur Oberbergischen Treue
REFRESH-INTERVAL;VALUE=DURATION:PT1H
X-Robots-Tag:noindex
X-PUBLISHED-TTL:PT1H
BEGIN:VTIMEZONE
TZID:Europe/Berlin
BEGIN:DAYLIGHT
TZOFFSETFROM:+0100
TZOFFSETTO:+0200
TZNAME:CEST
DTSTART:20250330T010000
END:DAYLIGHT
BEGIN:STANDARD
TZOFFSETFROM:+0200
TZOFFSETTO:+0100
TZNAME:CET
DTSTART:20251026T010000
END:STANDARD
BEGIN:DAYLIGHT
TZOFFSETFROM:+0100
TZOFFSETTO:+0200
TZNAME:CEST
DTSTART:20260329T010000
END:DAYLIGHT
BEGIN:STANDARD
TZOFFSETFROM:+0200
TZOFFSETTO:+0100
TZNAME:CET
DTSTART:20261025T010000
END:STANDARD
BEGIN:DAYLIGHT
TZOFFSETFROM:+0100
TZOFFSETTO:+0200
TZNAME:CEST
DTSTART:20270328T010000
END:DAYLIGHT
BEGIN:STANDARD
TZOFFSETFROM:+0200
TZOFFSETTO:+0100
TZNAME:CET
DTSTART:20271031T010000
END:STANDARD
END:VTIMEZONE
BEGIN:VEVENT
DTSTART;TZID=Europe/Berlin:20260506T193000
DTEND;TZID=Europe/Berlin:20260506T220000
DTSTAMP:20260420T092736
CREATED:20260104T114605Z
LAST-MODIFIED:20260104T114605Z
UID:731-1778095800-1778104800@freimaurer-gummersbach.de
SUMMARY:TA I
DESCRIPTION:Tempelarbeit im Lehrlingsgrad. \nNur für Brüder Freimaurer.
URL:https://freimaurer-gummersbach.de/events/ta-i-6/
LOCATION:Logenhaus Siegen\, Wellersbergstr. 46\, Siegen\, 57072
ORGANIZER;CN="Zur Oberbergischen Treue e.V.":MAILTO:sekretaer@freimaurer-gummersbach.de
END:VEVENT
BEGIN:VEVENT
DTSTART;TZID=Europe/Berlin:20260513T193000
DTEND;TZID=Europe/Berlin:20260513T220000
DTSTAMP:20260420T092736
CREATED:20260104T114710Z
LAST-MODIFIED:20260104T130456Z
UID:733-1778700600-1778709600@freimaurer-gummersbach.de
SUMMARY:Bruderabend
DESCRIPTION:Bruderabend. \nNur für Brüder Freimaurer. \n  \nGesellenzeichnung von Br. Benjamin
URL:https://freimaurer-gummersbach.de/events/bruderabend-17/
LOCATION:Brauhaus Gummersbach\, Hindenburgstraße 15\, Gummersbach\, 51643\, Germany
ORGANIZER;CN="Zur Oberbergischen Treue e.V.":MAILTO:sekretaer@freimaurer-gummersbach.de
END:VEVENT
BEGIN:VEVENT
DTSTART;TZID=Europe/Berlin:20260527T193000
DTEND;TZID=Europe/Berlin:20260527T220000
DTSTAMP:20260420T092736
CREATED:20260104T115315Z
LAST-MODIFIED:20260318T184045Z
UID:736-1779910200-1779919200@freimaurer-gummersbach.de
SUMMARY:Gästeabend
DESCRIPTION:Öffentlicher Gästeabend für Interessierte an der Freimaurerei. \nFür Besucher und Brüder Freimaurer. \n  \nThema: Freimaurer-Spaziergang (Podcast) „Einübungsethik“ \n  \nBesucher melden sich bitte formlos per Email an: sekretaer@freimaurer-gummersbach.de
URL:https://freimaurer-gummersbach.de/events/gaesteabend-4/
LOCATION:Brauhaus Gummersbach\, Hindenburgstraße 15\, Gummersbach\, 51643\, Germany
ORGANIZER;CN="Zur Oberbergischen Treue e.V.":MAILTO:sekretaer@freimaurer-gummersbach.de
END:VEVENT
END:VCALENDAR