BEGIN:VCALENDAR
VERSION:2.0
PRODID:-//Freimaurer - Zur Oberbergischen Treue - ECPv6.15.20//NONSGML v1.0//EN
CALSCALE:GREGORIAN
METHOD:PUBLISH
X-ORIGINAL-URL:https://freimaurer-gummersbach.de
X-WR-CALDESC:Veranstaltungen für Freimaurer - Zur Oberbergischen Treue
REFRESH-INTERVAL;VALUE=DURATION:PT1H
X-Robots-Tag:noindex
X-PUBLISHED-TTL:PT1H
BEGIN:VTIMEZONE
TZID:Europe/Berlin
BEGIN:DAYLIGHT
TZOFFSETFROM:+0100
TZOFFSETTO:+0200
TZNAME:CEST
DTSTART:20250330T010000
END:DAYLIGHT
BEGIN:STANDARD
TZOFFSETFROM:+0200
TZOFFSETTO:+0100
TZNAME:CET
DTSTART:20251026T010000
END:STANDARD
BEGIN:DAYLIGHT
TZOFFSETFROM:+0100
TZOFFSETTO:+0200
TZNAME:CEST
DTSTART:20260329T010000
END:DAYLIGHT
BEGIN:STANDARD
TZOFFSETFROM:+0200
TZOFFSETTO:+0100
TZNAME:CET
DTSTART:20261025T010000
END:STANDARD
BEGIN:DAYLIGHT
TZOFFSETFROM:+0100
TZOFFSETTO:+0200
TZNAME:CEST
DTSTART:20270328T010000
END:DAYLIGHT
BEGIN:STANDARD
TZOFFSETFROM:+0200
TZOFFSETTO:+0100
TZNAME:CET
DTSTART:20271031T010000
END:STANDARD
END:VTIMEZONE
BEGIN:VEVENT
DTSTART;TZID=Europe/Berlin:20260304T193000
DTEND;TZID=Europe/Berlin:20260304T210000
DTSTAMP:20260420T080751
CREATED:20251226T122744Z
LAST-MODIFIED:20251226T122744Z
UID:712-1772652600-1772658000@freimaurer-gummersbach.de
SUMMARY:TA I
DESCRIPTION:Tempelarbeit im Lehrlingsgrad\, im Logenhaus Siegen\n(nur für Brr. Freimaurer)
URL:https://freimaurer-gummersbach.de/events/ta-i-4/
END:VEVENT
BEGIN:VEVENT
DTSTART;TZID=Europe/Berlin:20260311T193000
DTEND;TZID=Europe/Berlin:20260311T220000
DTSTAMP:20260420T080751
CREATED:20251226T123011Z
LAST-MODIFIED:20251226T124213Z
UID:714-1773257400-1773266400@freimaurer-gummersbach.de
SUMMARY:JHV
DESCRIPTION:Jahreshauptversammlung mit Beamtenratswahl\n(es erfolgt eine separate Einladung)
URL:https://freimaurer-gummersbach.de/events/jahreshauptversammlung-2/
END:VEVENT
BEGIN:VEVENT
DTSTART;TZID=Europe/Berlin:20260324T193000
DTEND;TZID=Europe/Berlin:20260324T220000
DTSTAMP:20260420T080751
CREATED:20251226T123159Z
LAST-MODIFIED:20251226T123634Z
UID:716-1774380600-1774389600@freimaurer-gummersbach.de
SUMMARY:Stiftungsfest Kosmos/AM
DESCRIPTION:Gemeinsames Stiftungsfest der Logen Kosmos und Albertus Magnus\, im  Logenhaus Bonn\n(nur für Brr. Freimaurer)
URL:https://freimaurer-gummersbach.de/events/stiftungsfest-kosmos-am/
END:VEVENT
BEGIN:VEVENT
DTSTART;TZID=Europe/Berlin:20260325T193000
DTEND;TZID=Europe/Berlin:20260325T210000
DTSTAMP:20260420T080751
CREATED:20251226T123412Z
LAST-MODIFIED:20260121T114630Z
UID:718-1774467000-1774472400@freimaurer-gummersbach.de
SUMMARY:Gästeabend
DESCRIPTION:Öffentlicher Gästeabend für Interessierte an der Freimaurerei. \nFür Besucher und Brüder Freimaurer. \nBesucher melden sich bitte formlos per Email an: sekretaer@freimaurer-gummersbach.de \nBr. Dietmar: „Freimaurer – selbstlos\, selbstgefällig oder gar eine unfehlbare Elite?“
URL:https://freimaurer-gummersbach.de/events/gaesteabend-3/
END:VEVENT
END:VCALENDAR