BEGIN:VCALENDAR
VERSION:2.0
PRODID:-//Freimaurer - Zur Oberbergischen Treue - ECPv6.15.20//NONSGML v1.0//EN
CALSCALE:GREGORIAN
METHOD:PUBLISH
X-ORIGINAL-URL:https://freimaurer-gummersbach.de
X-WR-CALDESC:Veranstaltungen für Freimaurer - Zur Oberbergischen Treue
REFRESH-INTERVAL;VALUE=DURATION:PT1H
X-Robots-Tag:noindex
X-PUBLISHED-TTL:PT1H
BEGIN:VTIMEZONE
TZID:Europe/Berlin
BEGIN:DAYLIGHT
TZOFFSETFROM:+0100
TZOFFSETTO:+0200
TZNAME:CEST
DTSTART:20250330T010000
END:DAYLIGHT
BEGIN:STANDARD
TZOFFSETFROM:+0200
TZOFFSETTO:+0100
TZNAME:CET
DTSTART:20251026T010000
END:STANDARD
BEGIN:DAYLIGHT
TZOFFSETFROM:+0100
TZOFFSETTO:+0200
TZNAME:CEST
DTSTART:20260329T010000
END:DAYLIGHT
BEGIN:STANDARD
TZOFFSETFROM:+0200
TZOFFSETTO:+0100
TZNAME:CET
DTSTART:20261025T010000
END:STANDARD
BEGIN:DAYLIGHT
TZOFFSETFROM:+0100
TZOFFSETTO:+0200
TZNAME:CEST
DTSTART:20270328T010000
END:DAYLIGHT
BEGIN:STANDARD
TZOFFSETFROM:+0200
TZOFFSETTO:+0100
TZNAME:CET
DTSTART:20271031T010000
END:STANDARD
END:VTIMEZONE
BEGIN:VEVENT
DTSTART;TZID=Europe/Berlin:20260204T193000
DTEND;TZID=Europe/Berlin:20260204T220000
DTSTAMP:20260420T094548
CREATED:20251226T081212Z
LAST-MODIFIED:20251226T081756Z
UID:701-1770233400-1770242400@freimaurer-gummersbach.de
SUMMARY:TA I
DESCRIPTION:Tempelarbeit im Lehrlingsgrad\, mit Aufnahme\n(nur für Brr. Freimaurer)
URL:https://freimaurer-gummersbach.de/events/ta-i-3/
END:VEVENT
BEGIN:VEVENT
DTSTART;TZID=Europe/Berlin:20260218T193000
DTEND;TZID=Europe/Berlin:20260218T210000
DTSTAMP:20260420T094548
CREATED:20251226T082137Z
LAST-MODIFIED:20251226T082310Z
UID:705-1771443000-1771448400@freimaurer-gummersbach.de
SUMMARY:Bruderabend
DESCRIPTION:Bruderabend im Brauhaus Gummersbach\, mit Instruktion\n„Das verlorene Symbol“ Br. Gerd L.\n(nur für Brr. der Loge Z.O.T.)
URL:https://freimaurer-gummersbach.de/events/bruderabend-13/
END:VEVENT
BEGIN:VEVENT
DTSTART;TZID=Europe/Berlin:20260225T193000
DTEND;TZID=Europe/Berlin:20260225T210000
DTSTAMP:20260420T094548
CREATED:20251226T082530Z
LAST-MODIFIED:20260104T114027Z
UID:709-1772047800-1772053200@freimaurer-gummersbach.de
SUMMARY:Bruderabend
DESCRIPTION:Bruderabend mit Aktivität. Nur für Brüder Freimaurer
URL:https://freimaurer-gummersbach.de/events/bruderabend-14/
END:VEVENT
END:VCALENDAR