BEGIN:VCALENDAR
VERSION:2.0
PRODID:-//Freimaurer - Zur Oberbergischen Treue - ECPv6.15.20//NONSGML v1.0//EN
CALSCALE:GREGORIAN
METHOD:PUBLISH
X-ORIGINAL-URL:https://freimaurer-gummersbach.de
X-WR-CALDESC:Veranstaltungen für Freimaurer - Zur Oberbergischen Treue
REFRESH-INTERVAL;VALUE=DURATION:PT1H
X-Robots-Tag:noindex
X-PUBLISHED-TTL:PT1H
BEGIN:VTIMEZONE
TZID:Europe/Berlin
BEGIN:DAYLIGHT
TZOFFSETFROM:+0100
TZOFFSETTO:+0200
TZNAME:CEST
DTSTART:20250330T010000
END:DAYLIGHT
BEGIN:STANDARD
TZOFFSETFROM:+0200
TZOFFSETTO:+0100
TZNAME:CET
DTSTART:20251026T010000
END:STANDARD
BEGIN:DAYLIGHT
TZOFFSETFROM:+0100
TZOFFSETTO:+0200
TZNAME:CEST
DTSTART:20260329T010000
END:DAYLIGHT
BEGIN:STANDARD
TZOFFSETFROM:+0200
TZOFFSETTO:+0100
TZNAME:CET
DTSTART:20261025T010000
END:STANDARD
BEGIN:DAYLIGHT
TZOFFSETFROM:+0100
TZOFFSETTO:+0200
TZNAME:CEST
DTSTART:20270328T010000
END:DAYLIGHT
BEGIN:STANDARD
TZOFFSETFROM:+0200
TZOFFSETTO:+0100
TZNAME:CET
DTSTART:20271031T010000
END:STANDARD
END:VTIMEZONE
BEGIN:VEVENT
DTSTART;TZID=Europe/Berlin:20260107T193000
DTEND;TZID=Europe/Berlin:20260107T210000
DTSTAMP:20260420T111709
CREATED:20251226T075547Z
LAST-MODIFIED:20251226T075734Z
UID:689-1767814200-1767819600@freimaurer-gummersbach.de
SUMMARY:TA I
DESCRIPTION:Tempelarbeit im Lehrlingsgrad\, mit Kugelung\n(nur für Brr. Freimaurer)\nIm Logenhaus Siegen
URL:https://freimaurer-gummersbach.de/events/ta-i/
END:VEVENT
BEGIN:VEVENT
DTSTART;TZID=Europe/Berlin:20260110T180000
DTEND;TZID=Europe/Berlin:20260110T220000
DTSTAMP:20260420T111709
CREATED:20241220T181409Z
LAST-MODIFIED:20251226T075254Z
UID:449-1768068000-1768082400@freimaurer-gummersbach.de
SUMMARY:Neujahrsessen
DESCRIPTION:Neujahrsessen \n(nur für Brüder und Schwestern der Loge ‚Zur Oberbergischen Treue‘) \nim Gasthaus Stremme\, Becketalstraße 55\, 51647 GM \n 
URL:https://freimaurer-gummersbach.de/events/weihnachtsessen-mit-schwestern/
LOCATION:Hotel Stremme\, Beckestraße 55\, Gummersbach\, NRW\, 51647\, Germany
ATTACH;FMTTYPE=image/jpeg:https://freimaurer-gummersbach.de/wp-content/uploads/2025/01/81473650_115763823269342_6952432921185615872_o.jpg
END:VEVENT
BEGIN:VEVENT
DTSTART;TZID=Europe/Berlin:20260114T193000
DTEND;TZID=Europe/Berlin:20260114T210000
DTSTAMP:20260420T111710
CREATED:20251226T080207Z
LAST-MODIFIED:20251226T080207Z
UID:691-1768419000-1768424400@freimaurer-gummersbach.de
SUMMARY:Bruderabend
DESCRIPTION:Bruderabend im Brauhaus Gummersbach\n(nur für Brr. der Loge Z.O.T.)
URL:https://freimaurer-gummersbach.de/events/bruderabend-11/
END:VEVENT
BEGIN:VEVENT
DTSTART;TZID=Europe/Berlin:20260125T110000
DTEND;TZID=Europe/Berlin:20260125T150000
DTSTAMP:20260420T111710
CREATED:20251226T080631Z
LAST-MODIFIED:20251226T124315Z
UID:693-1769338800-1769353200@freimaurer-gummersbach.de
SUMMARY:Neujahrsempfang Köln
DESCRIPTION:Neujahresempfang der Kölner Logen im Kölner Logenhaus\, mit Brr. und Gästen\nAnmeldung bis 18. Januar
URL:https://freimaurer-gummersbach.de/events/koelner-neujahresempfang/
END:VEVENT
BEGIN:VEVENT
DTSTART;TZID=Europe/Berlin:20260128T193000
DTEND;TZID=Europe/Berlin:20260128T210000
DTSTAMP:20260420T111710
CREATED:20251226T080841Z
LAST-MODIFIED:20260120T173155Z
UID:696-1769628600-1769634000@freimaurer-gummersbach.de
SUMMARY:Gästseabend
DESCRIPTION:Öffentlicher Gästeabend für Interessierte an der Freimaurerei. \nFür Besucher und Brüder Freimaurer. \n  \nThema: Freimaurer-Spaziergang (Podcast) „Erwartungen“ \n  \nBesucher melden sich bitte formlos per Email an: sekretaer@freimaurer-gummersbach.de
URL:https://freimaurer-gummersbach.de/events/gaestseabend/
LOCATION:Brauhaus Gummersbach\, Hindenburgstraße 15\, Gummersbach\, 51643\, Germany
ORGANIZER;CN="Zur Oberbergischen Treue e.V.":MAILTO:sekretaer@freimaurer-gummersbach.de
END:VEVENT
END:VCALENDAR