BEGIN:VCALENDAR
VERSION:2.0
PRODID:-//Freimaurer - Zur Oberbergischen Treue - ECPv6.15.20//NONSGML v1.0//EN
CALSCALE:GREGORIAN
METHOD:PUBLISH
X-WR-CALNAME:Freimaurer - Zur Oberbergischen Treue
X-ORIGINAL-URL:https://freimaurer-gummersbach.de
X-WR-CALDESC:Veranstaltungen für Freimaurer - Zur Oberbergischen Treue
REFRESH-INTERVAL;VALUE=DURATION:PT1H
X-Robots-Tag:noindex
X-PUBLISHED-TTL:PT1H
BEGIN:VTIMEZONE
TZID:Europe/Berlin
BEGIN:DAYLIGHT
TZOFFSETFROM:+0100
TZOFFSETTO:+0200
TZNAME:CEST
DTSTART:20240331T010000
END:DAYLIGHT
BEGIN:STANDARD
TZOFFSETFROM:+0200
TZOFFSETTO:+0100
TZNAME:CET
DTSTART:20241027T010000
END:STANDARD
BEGIN:DAYLIGHT
TZOFFSETFROM:+0100
TZOFFSETTO:+0200
TZNAME:CEST
DTSTART:20250330T010000
END:DAYLIGHT
BEGIN:STANDARD
TZOFFSETFROM:+0200
TZOFFSETTO:+0100
TZNAME:CET
DTSTART:20251026T010000
END:STANDARD
BEGIN:DAYLIGHT
TZOFFSETFROM:+0100
TZOFFSETTO:+0200
TZNAME:CEST
DTSTART:20260329T010000
END:DAYLIGHT
BEGIN:STANDARD
TZOFFSETFROM:+0200
TZOFFSETTO:+0100
TZNAME:CET
DTSTART:20261025T010000
END:STANDARD
END:VTIMEZONE
BEGIN:VEVENT
DTSTART;TZID=Europe/Berlin:20251216T193000
DTEND;TZID=Europe/Berlin:20251216T220000
DTSTAMP:20260422T121952
CREATED:20241220T175354Z
LAST-MODIFIED:20251026T120731Z
UID:429-1765913400-1765922400@freimaurer-gummersbach.de
SUMMARY:Bruderabend
DESCRIPTION:Nur für Brüder der Loge ‚Zur Oberbergischen Treue‘ \n  \n\n\n\nAlle Brr. – Arbeitsplan 2026
URL:https://freimaurer-gummersbach.de/events/bruderabend-12/
LOCATION:Brauhaus Gummersbach\, Hindenburgstraße 15\, Gummersbach\, 51643\, Germany
ORGANIZER;CN="Zur Oberbergischen Treue e.V.":MAILTO:sekretaer@freimaurer-gummersbach.de
END:VEVENT
BEGIN:VEVENT
DTSTART;TZID=Europe/Berlin:20251226T080000
DTEND;TZID=Europe/Berlin:20251226T170000
DTSTAMP:20260422T121952
CREATED:20251226T081051Z
LAST-MODIFIED:20251226T081051Z
UID:699-1766736000-1766768400@freimaurer-gummersbach.de
SUMMARY:TA I
DESCRIPTION:Tempelarbeit im Lehrlingsgrad\n(nur für Brr. Freimaurer)\nim Logenhaus Siegen
URL:https://freimaurer-gummersbach.de/events/ta-i-2/
END:VEVENT
END:VCALENDAR