BEGIN:VCALENDAR
VERSION:2.0
PRODID:-//Freimaurer - Zur Oberbergischen Treue - ECPv6.15.20//NONSGML v1.0//EN
CALSCALE:GREGORIAN
METHOD:PUBLISH
X-WR-CALNAME:Freimaurer - Zur Oberbergischen Treue
X-ORIGINAL-URL:https://freimaurer-gummersbach.de
X-WR-CALDESC:Veranstaltungen für Freimaurer - Zur Oberbergischen Treue
REFRESH-INTERVAL;VALUE=DURATION:PT1H
X-Robots-Tag:noindex
X-PUBLISHED-TTL:PT1H
BEGIN:VTIMEZONE
TZID:Europe/Berlin
BEGIN:DAYLIGHT
TZOFFSETFROM:+0100
TZOFFSETTO:+0200
TZNAME:CEST
DTSTART:20240331T010000
END:DAYLIGHT
BEGIN:STANDARD
TZOFFSETFROM:+0200
TZOFFSETTO:+0100
TZNAME:CET
DTSTART:20241027T010000
END:STANDARD
BEGIN:DAYLIGHT
TZOFFSETFROM:+0100
TZOFFSETTO:+0200
TZNAME:CEST
DTSTART:20250330T010000
END:DAYLIGHT
BEGIN:STANDARD
TZOFFSETFROM:+0200
TZOFFSETTO:+0100
TZNAME:CET
DTSTART:20251026T010000
END:STANDARD
BEGIN:DAYLIGHT
TZOFFSETFROM:+0100
TZOFFSETTO:+0200
TZNAME:CEST
DTSTART:20260329T010000
END:DAYLIGHT
BEGIN:STANDARD
TZOFFSETFROM:+0200
TZOFFSETTO:+0100
TZNAME:CET
DTSTART:20261025T010000
END:STANDARD
END:VTIMEZONE
BEGIN:VEVENT
DTSTART;TZID=Europe/Berlin:20251105T193000
DTEND;TZID=Europe/Berlin:20251105T220000
DTSTAMP:20260422T135538
CREATED:20241220T175132Z
LAST-MODIFIED:20241220T175132Z
UID:425-1762371000-1762380000@freimaurer-gummersbach.de
SUMMARY:Bruderabend
DESCRIPTION:Nur für Brüder der Loge ‚Zur Oberbergischen Treue‘ \n  \n\n\n\nBr. Dietmar – Freimaurerei und die Weltherrschaft. Was steckt dahinter?
URL:https://freimaurer-gummersbach.de/events/bruderabend-10/
LOCATION:Schlosshotel Gimborn\, Schlossstraße 15\, Marienheide\, 51709\, Germany
ORGANIZER;CN="Zur Oberbergischen Treue e.V.":MAILTO:sekretaer@freimaurer-gummersbach.de
END:VEVENT
BEGIN:VEVENT
DTSTART;TZID=Europe/Berlin:20251112T193000
DTEND;TZID=Europe/Berlin:20251112T220000
DTSTAMP:20260422T135538
CREATED:20241220T181006Z
LAST-MODIFIED:20251027T074132Z
UID:444-1762975800-1762984800@freimaurer-gummersbach.de
SUMMARY:Öffentlicher Gästeabend
DESCRIPTION:Öffentlicher Gästeabend im Brauhaus Gummersbach. \nAnmeldungen zu all unseren öffentlichen Gästeabenden bitte formlos per Email an: sekretaer@freimaurer-gummersbach.de \n\n\n\n\n\n\n\n 
URL:https://freimaurer-gummersbach.de/events/oeffentlicher-gaesteabend-4/
LOCATION:Brauhaus Gummersbach\, Hindenburgstraße 15\, Gummersbach\, 51643\, Germany
ORGANIZER;CN="Zur Oberbergischen Treue e.V.":MAILTO:sekretaer@freimaurer-gummersbach.de
END:VEVENT
BEGIN:VEVENT
DTSTART;TZID=Europe/Berlin:20251126T193000
DTEND;TZID=Europe/Berlin:20251126T220000
DTSTAMP:20260422T135538
CREATED:20241220T184812Z
LAST-MODIFIED:20241220T184812Z
UID:475-1764185400-1764194400@freimaurer-gummersbach.de
SUMMARY:Tempelarbeit - Trauerloge
DESCRIPTION:Nur für Brüder Freimaurer.\n\n\nTempelarbeit im 1. Grad. \n  \n\n\n\nAlle Brr. – Trauerloge mit Albertus Magnus
URL:https://freimaurer-gummersbach.de/events/tempelarbeit-trauerloge/
LOCATION:Logenhaus Köln
ORGANIZER;CN="Zur Oberbergischen Treue e.V.":MAILTO:sekretaer@freimaurer-gummersbach.de
END:VEVENT
END:VCALENDAR