BEGIN:VCALENDAR
VERSION:2.0
PRODID:-//Freimaurer - Zur Oberbergischen Treue - ECPv6.15.20//NONSGML v1.0//EN
CALSCALE:GREGORIAN
METHOD:PUBLISH
X-WR-CALNAME:Freimaurer - Zur Oberbergischen Treue
X-ORIGINAL-URL:https://freimaurer-gummersbach.de
X-WR-CALDESC:Veranstaltungen für Freimaurer - Zur Oberbergischen Treue
REFRESH-INTERVAL;VALUE=DURATION:PT1H
X-Robots-Tag:noindex
X-PUBLISHED-TTL:PT1H
BEGIN:VTIMEZONE
TZID:Europe/Berlin
BEGIN:DAYLIGHT
TZOFFSETFROM:+0100
TZOFFSETTO:+0200
TZNAME:CEST
DTSTART:20240331T010000
END:DAYLIGHT
BEGIN:STANDARD
TZOFFSETFROM:+0200
TZOFFSETTO:+0100
TZNAME:CET
DTSTART:20241027T010000
END:STANDARD
BEGIN:DAYLIGHT
TZOFFSETFROM:+0100
TZOFFSETTO:+0200
TZNAME:CEST
DTSTART:20250330T010000
END:DAYLIGHT
BEGIN:STANDARD
TZOFFSETFROM:+0200
TZOFFSETTO:+0100
TZNAME:CET
DTSTART:20251026T010000
END:STANDARD
BEGIN:DAYLIGHT
TZOFFSETFROM:+0100
TZOFFSETTO:+0200
TZNAME:CEST
DTSTART:20260329T010000
END:DAYLIGHT
BEGIN:STANDARD
TZOFFSETFROM:+0200
TZOFFSETTO:+0100
TZNAME:CET
DTSTART:20261025T010000
END:STANDARD
END:VTIMEZONE
BEGIN:VEVENT
DTSTART;TZID=Europe/Berlin:20251008T193000
DTEND;TZID=Europe/Berlin:20251008T220000
DTSTAMP:20260422T154457
CREATED:20241220T175021Z
LAST-MODIFIED:20241220T175021Z
UID:423-1759951800-1759960800@freimaurer-gummersbach.de
SUMMARY:Bruderabend
DESCRIPTION:Nur für Brüder der Loge ‚Zur Oberbergischen Treue‘ \n  \n\n\n\nBr. Axel R – Thema fehlt noch
URL:https://freimaurer-gummersbach.de/events/bruderabend-9/
LOCATION:Schlosshotel Gimborn\, Schlossstraße 15\, Marienheide\, 51709\, Germany
ORGANIZER;CN="Zur Oberbergischen Treue e.V.":MAILTO:sekretaer@freimaurer-gummersbach.de
END:VEVENT
BEGIN:VEVENT
DTSTART;TZID=Europe/Berlin:20251015T183000
DTEND;TZID=Europe/Berlin:20251015T210000
DTSTAMP:20260422T154457
CREATED:20250929T163136Z
LAST-MODIFIED:20250929T163136Z
UID:654-1760553000-1760562000@freimaurer-gummersbach.de
SUMMARY:Stark gegen Krebs
DESCRIPTION:Vortrag eines Krebsüberlebenden\nMit Optimismus Leben verändern und Heilungschancen ändern \n15.Oktober 2025\n19:30-21:00 Uhr \nEintritt frei \nSitzungssaal des Oberbergischen Kreises im ehemaligen Hohenzollernbad\nMoltkestrasse 45\, 51643 Gummersbach \n 
URL:https://freimaurer-gummersbach.de/events/stark-gegen-krebs/
LOCATION:Sitzungssall der Oberbergischen Kreises\, Moltkestrasse 45\, Gummersbach\, 51643
END:VEVENT
BEGIN:VEVENT
DTSTART;TZID=Europe/Berlin:20251022T193000
DTEND;TZID=Europe/Berlin:20251022T220000
DTSTAMP:20260422T154457
CREATED:20241220T184539Z
LAST-MODIFIED:20241220T185822Z
UID:471-1761161400-1761170400@freimaurer-gummersbach.de
SUMMARY:Tempelarbeit TA I
DESCRIPTION:Nur für Brüder Freimaurer.\n\n\nTempelarbeit im 1. Grad. \n  \n\n\n\nBr. Gerhard – Wie verändern die freimaurerischen Rituale unser Bewusstsein?
URL:https://freimaurer-gummersbach.de/events/tempelarbeit-ta-i-4/
LOCATION:Logenhaus Siegen\, Wellersbergstr. 46\, Siegen\, 57072
ORGANIZER;CN="Zur Oberbergischen Treue e.V.":MAILTO:sekretaer@freimaurer-gummersbach.de
END:VEVENT
END:VCALENDAR