BEGIN:VCALENDAR
VERSION:2.0
PRODID:-//Freimaurer - Zur Oberbergischen Treue - ECPv6.15.20//NONSGML v1.0//EN
CALSCALE:GREGORIAN
METHOD:PUBLISH
X-ORIGINAL-URL:https://freimaurer-gummersbach.de
X-WR-CALDESC:Veranstaltungen für Freimaurer - Zur Oberbergischen Treue
REFRESH-INTERVAL;VALUE=DURATION:PT1H
X-Robots-Tag:noindex
X-PUBLISHED-TTL:PT1H
BEGIN:VTIMEZONE
TZID:Europe/Berlin
BEGIN:DAYLIGHT
TZOFFSETFROM:+0100
TZOFFSETTO:+0200
TZNAME:CEST
DTSTART:20240331T010000
END:DAYLIGHT
BEGIN:STANDARD
TZOFFSETFROM:+0200
TZOFFSETTO:+0100
TZNAME:CET
DTSTART:20241027T010000
END:STANDARD
BEGIN:DAYLIGHT
TZOFFSETFROM:+0100
TZOFFSETTO:+0200
TZNAME:CEST
DTSTART:20250330T010000
END:DAYLIGHT
BEGIN:STANDARD
TZOFFSETFROM:+0200
TZOFFSETTO:+0100
TZNAME:CET
DTSTART:20251026T010000
END:STANDARD
BEGIN:DAYLIGHT
TZOFFSETFROM:+0100
TZOFFSETTO:+0200
TZNAME:CEST
DTSTART:20260329T010000
END:DAYLIGHT
BEGIN:STANDARD
TZOFFSETFROM:+0200
TZOFFSETTO:+0100
TZNAME:CET
DTSTART:20261025T010000
END:STANDARD
END:VTIMEZONE
BEGIN:VEVENT
DTSTART;TZID=Europe/Berlin:20250903T193000
DTEND;TZID=Europe/Berlin:20250903T220000
DTSTAMP:20260422T172346
CREATED:20241220T174900Z
LAST-MODIFIED:20241220T174900Z
UID:421-1756927800-1756936800@freimaurer-gummersbach.de
SUMMARY:Bruderabend
DESCRIPTION:Nur für Brüder der Loge ‚Zur Oberbergischen Treue‘ \n\n\n\nAlle Brr. – Treffen nach Maurerferien 2025 – Besprechen 2. Hj.
URL:https://freimaurer-gummersbach.de/events/bruderabend-8/
LOCATION:Schlosshotel Gimborn\, Schlossstraße 15\, Marienheide\, 51709\, Germany
ORGANIZER;CN="Zur Oberbergischen Treue e.V.":MAILTO:sekretaer@freimaurer-gummersbach.de
END:VEVENT
BEGIN:VEVENT
DTSTART;TZID=Europe/Berlin:20250910T193000
DTEND;TZID=Europe/Berlin:20250910T213000
DTSTAMP:20260422T172346
CREATED:20250831T105346Z
LAST-MODIFIED:20250831T112156Z
UID:635-1757532600-1757539800@freimaurer-gummersbach.de
SUMMARY:Einladung zum öffentlichen Gästeabend
DESCRIPTION:EINLADUNG \n \nder Freimaurerloge „Zur Oberbergischen Treue“ Gummersbach zum                             \n  \nÖffentlicher Gästeabend (mit Damen) am 10. September 2025\, 19:30 Uhr\, im \nBRAUHAUS Gummersbach\, 1. OG\, Hindenburgstr. 15 (Fußgängerzone)\, 51643 Gummersbach \n\nFreimaurerei – der so vielen unbekannte Verein.\n\nAber das Unbekannte und nicht Vertraute schaffen wie in vielen anderen Bereichen ihre markanten Blüten. Diese reichen bei der Freimaurerei von der Unkenntnis bis hin zu Verschwörungsmythen. Und dabei ist Freimaurerei nicht mehr und nicht weniger als eine Gemeinschaft\, die im Handwerk des Dombaus mit ihren Wurzeln fußt und durch die Geisteswelt der Aufklärung ihren Schub erhielt. Seit über dreihundert Jahren begleitet sie die jeweiligen Gesellschaften mit dem Bemühen\, sie humaner zu machen. \nUnd genau an dieser Stelle setzt der Vortrag an. Er will verdeutlichen\, dass Freimaurerei zwar eng mit den sie umgebenden Gesellschaften verbunden ist\, aber eine auch eigenständige Kultur pflegt. \nDiese Subkultur prägt die Frauen und die Männer in der Freimaurerei\, die sich entsprechend im freimaurerischen Geist in der Gesellschaft bewähren sollen. \nDer Eintritt zum öffentlichen Gästeabend ist frei\, wir bitten um Anmeldung unter: \nsekretaer@freimaurer-gummersbach.de \nLoge Zur Oberbergischen Treue e.V. \nwww.freimaurer-gummersbach.de
URL:https://freimaurer-gummersbach.de/events/635/
LOCATION:Brauhaus Gummersbach\, Hindenburgstraße 15\, Gummersbach\, 51643\, Germany
ORGANIZER;CN="Zur Oberbergischen Treue e.V.":MAILTO:sekretaer@freimaurer-gummersbach.de
END:VEVENT
BEGIN:VEVENT
DTSTART;TZID=Europe/Berlin:20250917T193000
DTEND;TZID=Europe/Berlin:20250917T220000
DTSTAMP:20260422T172346
CREATED:20241220T184709Z
LAST-MODIFIED:20250829T141213Z
UID:473-1758137400-1758146400@freimaurer-gummersbach.de
SUMMARY:Tempelarbeit TA I
DESCRIPTION:Nur für Brüder Freimaurer.\n\n\nTempelarbeit im 1. Grad. mit Aufnahme –  Hr. C.B. \n 
URL:https://freimaurer-gummersbach.de/events/tempelarbeit-ta-iii/
LOCATION:Logenhaus Siegen\, Wellersbergstr. 46\, Siegen\, 57072
ORGANIZER;CN="Zur Oberbergischen Treue e.V.":MAILTO:sekretaer@freimaurer-gummersbach.de
END:VEVENT
END:VCALENDAR