BEGIN:VCALENDAR
VERSION:2.0
PRODID:-//Freimaurer - Zur Oberbergischen Treue - ECPv6.15.20//NONSGML v1.0//EN
CALSCALE:GREGORIAN
METHOD:PUBLISH
X-WR-CALNAME:Freimaurer - Zur Oberbergischen Treue
X-ORIGINAL-URL:https://freimaurer-gummersbach.de
X-WR-CALDESC:Veranstaltungen für Freimaurer - Zur Oberbergischen Treue
REFRESH-INTERVAL;VALUE=DURATION:PT1H
X-Robots-Tag:noindex
X-PUBLISHED-TTL:PT1H
BEGIN:VTIMEZONE
TZID:Europe/Berlin
BEGIN:DAYLIGHT
TZOFFSETFROM:+0100
TZOFFSETTO:+0200
TZNAME:CEST
DTSTART:20240331T010000
END:DAYLIGHT
BEGIN:STANDARD
TZOFFSETFROM:+0200
TZOFFSETTO:+0100
TZNAME:CET
DTSTART:20241027T010000
END:STANDARD
BEGIN:DAYLIGHT
TZOFFSETFROM:+0100
TZOFFSETTO:+0200
TZNAME:CEST
DTSTART:20250330T010000
END:DAYLIGHT
BEGIN:STANDARD
TZOFFSETFROM:+0200
TZOFFSETTO:+0100
TZNAME:CET
DTSTART:20251026T010000
END:STANDARD
BEGIN:DAYLIGHT
TZOFFSETFROM:+0100
TZOFFSETTO:+0200
TZNAME:CEST
DTSTART:20260329T010000
END:DAYLIGHT
BEGIN:STANDARD
TZOFFSETFROM:+0200
TZOFFSETTO:+0100
TZNAME:CET
DTSTART:20261025T010000
END:STANDARD
END:VTIMEZONE
BEGIN:VEVENT
DTSTART;TZID=Europe/Berlin:20250402T193000
DTEND;TZID=Europe/Berlin:20250402T220000
DTSTAMP:20260424T142000
CREATED:20241220T184325Z
LAST-MODIFIED:20241220T184325Z
UID:467-1743622200-1743631200@freimaurer-gummersbach.de
SUMMARY:Tempelarbeit TA I
DESCRIPTION:Nur für Brüder Freimaurer.\n\n\nTempelarbeit im 1. Grad. \n  \n\n\n\nBr. Werner – ‚Wege zum Tempel der Humaniät‘
URL:https://freimaurer-gummersbach.de/events/tempelarbeit-ta-i-2/
LOCATION:Logenhaus Siegen\, Wellersbergstr. 46\, Siegen\, 57072
ORGANIZER;CN="Zur Oberbergischen Treue e.V.":MAILTO:sekretaer@freimaurer-gummersbach.de
END:VEVENT
BEGIN:VEVENT
DTSTART;TZID=Europe/Berlin:20250409T193000
DTEND;TZID=Europe/Berlin:20250409T220000
DTSTAMP:20260424T142000
CREATED:20241220T185139Z
LAST-MODIFIED:20241220T191556Z
UID:481-1744227000-1744236000@freimaurer-gummersbach.de
SUMMARY:Workshop 3/6
DESCRIPTION:Workshop 2025 \n\n  \n\n\n\nBr. Gerhard – Workshop 3/6
URL:https://freimaurer-gummersbach.de/events/workshop-3-6/
LOCATION:Brauhaus Gummersbach\, Hindenburgstraße 15\, Gummersbach\, 51643\, Germany
ORGANIZER;CN="Zur Oberbergischen Treue e.V.":MAILTO:sekretaer@freimaurer-gummersbach.de
END:VEVENT
BEGIN:VEVENT
DTSTART;TZID=Europe/Berlin:20250416T193000
DTEND;TZID=Europe/Berlin:20250416T220000
DTSTAMP:20260424T142000
CREATED:20241220T174537Z
LAST-MODIFIED:20241220T174547Z
UID:414-1744831800-1744840800@freimaurer-gummersbach.de
SUMMARY:Bruderabend
DESCRIPTION:Nur für Brüder der Loge ‚Zur Oberbergischen Treue‘ \n  \nBr. Werner – Wege zum Tempel der Humanität
URL:https://freimaurer-gummersbach.de/events/bruderabend-5/
LOCATION:Schlosshotel Gimborn\, Schlossstraße 15\, Marienheide\, 51709\, Germany
ORGANIZER;CN="Zur Oberbergischen Treue e.V.":MAILTO:sekretaer@freimaurer-gummersbach.de
END:VEVENT
BEGIN:VEVENT
DTSTART;TZID=Europe/Berlin:20250430T193000
DTEND;TZID=Europe/Berlin:20250430T220000
DTSTAMP:20260424T142000
CREATED:20250304T105753Z
LAST-MODIFIED:20250304T105753Z
UID:585-1746041400-1746050400@freimaurer-gummersbach.de
SUMMARY:Öffentlicher Gästeabend - "Socken im Kühlschrank" - Der Abend zum Dementical\, mit Herrn Kottmann\, dem Komponist und Initiator des gleichnamigen Musicals
DESCRIPTION:Die Freimaurerloge „Zur Oberbergischen Treue“ läd zu einem Informationsabend rund um das Thema Demenz\, Depressionen und Schizophrenie ein. \nHerrn Kottmann ist der Komponist und Initiator des gleichnamigen Musicals und wird zu diesem Themenkreis referieren. \nBitte senden Sie Ihren Anmeldung an: sekretaer@freimaurer-gummersbach.de \nWir freuen uns schon auf Ihren Besuch.
URL:https://freimaurer-gummersbach.de/events/oeffentlicher-gaesteabend-socken-im-kuehlschrank-der-abend-zum-dementical-mit-herrn-kottmann-dem-komponist-und-initiator-des-gleichnamigen-musicals/
LOCATION:Brauhaus Gummersbach\, Hindenburgstraße 15\, Gummersbach\, 51643\, Germany
ORGANIZER;CN="Zur Oberbergischen Treue e.V.":MAILTO:sekretaer@freimaurer-gummersbach.de
END:VEVENT
END:VCALENDAR