BEGIN:VCALENDAR
VERSION:2.0
PRODID:-//Freimaurer - Zur Oberbergischen Treue - ECPv6.15.20//NONSGML v1.0//EN
CALSCALE:GREGORIAN
METHOD:PUBLISH
X-ORIGINAL-URL:https://freimaurer-gummersbach.de
X-WR-CALDESC:Veranstaltungen für Freimaurer - Zur Oberbergischen Treue
REFRESH-INTERVAL;VALUE=DURATION:PT1H
X-Robots-Tag:noindex
X-PUBLISHED-TTL:PT1H
BEGIN:VTIMEZONE
TZID:Europe/Berlin
BEGIN:DAYLIGHT
TZOFFSETFROM:+0100
TZOFFSETTO:+0200
TZNAME:CEST
DTSTART:20240331T010000
END:DAYLIGHT
BEGIN:STANDARD
TZOFFSETFROM:+0200
TZOFFSETTO:+0100
TZNAME:CET
DTSTART:20241027T010000
END:STANDARD
BEGIN:DAYLIGHT
TZOFFSETFROM:+0100
TZOFFSETTO:+0200
TZNAME:CEST
DTSTART:20250330T010000
END:DAYLIGHT
BEGIN:STANDARD
TZOFFSETFROM:+0200
TZOFFSETTO:+0100
TZNAME:CET
DTSTART:20251026T010000
END:STANDARD
BEGIN:DAYLIGHT
TZOFFSETFROM:+0100
TZOFFSETTO:+0200
TZNAME:CEST
DTSTART:20260329T010000
END:DAYLIGHT
BEGIN:STANDARD
TZOFFSETFROM:+0200
TZOFFSETTO:+0100
TZNAME:CET
DTSTART:20261025T010000
END:STANDARD
END:VTIMEZONE
BEGIN:VEVENT
DTSTART;TZID=Europe/Berlin:20250305T193000
DTEND;TZID=Europe/Berlin:20250305T220000
DTSTAMP:20260424T161234
CREATED:20241220T175812Z
LAST-MODIFIED:20241220T175812Z
UID:433-1741203000-1741212000@freimaurer-gummersbach.de
SUMMARY:Jahreshauptversammlung
DESCRIPTION:Nur für Brüder der Loge ‚Zur Oberbergischen Treue‘ \nEinladung erfolgt fristgerecht gem. Vereinssatzung an die Brüder der Loge.
URL:https://freimaurer-gummersbach.de/events/jahreshauptversammlung/
LOCATION:Schlosshotel Gimborn\, Schlossstraße 15\, Marienheide\, 51709\, Germany
ORGANIZER;CN="Zur Oberbergischen Treue e.V.":MAILTO:sekretaer@freimaurer-gummersbach.de
END:VEVENT
BEGIN:VEVENT
DTSTART;TZID=Europe/Berlin:20250312T193000
DTEND;TZID=Europe/Berlin:20250312T220000
DTSTAMP:20260424T161234
CREATED:20241220T185037Z
LAST-MODIFIED:20241220T191513Z
UID:479-1741807800-1741816800@freimaurer-gummersbach.de
SUMMARY:Workshop 2/6
DESCRIPTION:Workshop 2025 \n\n  \n\n\n\nBr. Daniel – Workshop 2/6
URL:https://freimaurer-gummersbach.de/events/workshop-2-6/
LOCATION:Brauhaus Gummersbach\, Hindenburgstraße 15\, Gummersbach\, 51643\, Germany
ORGANIZER;CN="Zur Oberbergischen Treue e.V.":MAILTO:sekretaer@freimaurer-gummersbach.de
END:VEVENT
BEGIN:VEVENT
DTSTART;TZID=Europe/Berlin:20250319T193000
DTEND;TZID=Europe/Berlin:20250319T210000
DTSTAMP:20260424T161234
CREATED:20241220T184210Z
LAST-MODIFIED:20250318T101250Z
UID:464-1742412600-1742418000@freimaurer-gummersbach.de
SUMMARY:Tempelarbeit TA I
DESCRIPTION:Nur für Brüder Freimaurer.\n\n\nTempelarbeit im 1. Grad \n\n\n\nDie Zeichnung hält Br. Wolfgang M\, mit dem Titel „Freiheit“\n\n\n\n.
URL:https://freimaurer-gummersbach.de/events/tempelarbeit-ta-i/
LOCATION:Logenhaus Siegen\, Wellersbergstr. 46\, Siegen\, 57072
ORGANIZER;CN="Zur Oberbergischen Treue e.V.":MAILTO:sekretaer@freimaurer-gummersbach.de
END:VEVENT
END:VCALENDAR