BEGIN:VCALENDAR
VERSION:2.0
PRODID:-//Freimaurer - Zur Oberbergischen Treue - ECPv6.15.20//NONSGML v1.0//EN
CALSCALE:GREGORIAN
METHOD:PUBLISH
X-ORIGINAL-URL:https://freimaurer-gummersbach.de
X-WR-CALDESC:Veranstaltungen für Freimaurer - Zur Oberbergischen Treue
REFRESH-INTERVAL;VALUE=DURATION:PT1H
X-Robots-Tag:noindex
X-PUBLISHED-TTL:PT1H
BEGIN:VTIMEZONE
TZID:Europe/Berlin
BEGIN:DAYLIGHT
TZOFFSETFROM:+0100
TZOFFSETTO:+0200
TZNAME:CEST
DTSTART:20240331T010000
END:DAYLIGHT
BEGIN:STANDARD
TZOFFSETFROM:+0200
TZOFFSETTO:+0100
TZNAME:CET
DTSTART:20241027T010000
END:STANDARD
BEGIN:DAYLIGHT
TZOFFSETFROM:+0100
TZOFFSETTO:+0200
TZNAME:CEST
DTSTART:20250330T010000
END:DAYLIGHT
BEGIN:STANDARD
TZOFFSETFROM:+0200
TZOFFSETTO:+0100
TZNAME:CET
DTSTART:20251026T010000
END:STANDARD
BEGIN:DAYLIGHT
TZOFFSETFROM:+0100
TZOFFSETTO:+0200
TZNAME:CEST
DTSTART:20260329T010000
END:DAYLIGHT
BEGIN:STANDARD
TZOFFSETFROM:+0200
TZOFFSETTO:+0100
TZNAME:CET
DTSTART:20261025T010000
END:STANDARD
END:VTIMEZONE
BEGIN:VEVENT
DTSTART;TZID=Europe/Berlin:20250205T193000
DTEND;TZID=Europe/Berlin:20250205T220000
DTSTAMP:20260424T175330
CREATED:20241220T174305Z
LAST-MODIFIED:20250203T104036Z
UID:412-1738783800-1738792800@freimaurer-gummersbach.de
SUMMARY:Bruderabend
DESCRIPTION:Nur für Brüder der Loge ‚Zur Oberbergischen Treue‘ \n\n\n\nBr. Jens – Die Wahrheit steigt aus dem Brunnen \nZeichnung zum Gemälde des Malers Jean-Léon Gérôme „Die Wahrheit steigt aus dem Brunnen“
URL:https://freimaurer-gummersbach.de/events/bruderabend-4/
LOCATION:Schlosshotel Gimborn\, Schlossstraße 15\, Marienheide\, 51709\, Germany
ORGANIZER;CN="Zur Oberbergischen Treue e.V.":MAILTO:sekretaer@freimaurer-gummersbach.de
END:VEVENT
BEGIN:VEVENT
DTSTART;TZID=Europe/Berlin:20250219T193000
DTEND;TZID=Europe/Berlin:20250219T220000
DTSTAMP:20260424T175330
CREATED:20241220T184945Z
LAST-MODIFIED:20241223T111800Z
UID:477-1739993400-1740002400@freimaurer-gummersbach.de
SUMMARY:Workshop 1/6
DESCRIPTION:Workshop 2025 \n\n  \n\n\n\nBr. Werner – Workshop 1/6
URL:https://freimaurer-gummersbach.de/events/workshop-1-6/
LOCATION:Brauhaus Gummersbach\, Hindenburgstraße 15\, Gummersbach\, 51643\, Germany
ORGANIZER;CN="Zur Oberbergischen Treue e.V.":MAILTO:sekretaer@freimaurer-gummersbach.de
END:VEVENT
BEGIN:VEVENT
DTSTART;TZID=Europe/Berlin:20250226T193000
DTEND;TZID=Europe/Berlin:20250226T220000
DTSTAMP:20260424T175330
CREATED:20241220T183954Z
LAST-MODIFIED:20241220T184033Z
UID:462-1740598200-1740607200@freimaurer-gummersbach.de
SUMMARY:Tempelarbeit TA II
DESCRIPTION:Nur für Brüder Freimaurer.\n\n\nTempelarbeit im 2. Grad.\n\n\n\nAlle Brr. – TA II – Gemeinschaftsarbeit mit Albertus Magnus
URL:https://freimaurer-gummersbach.de/events/tempelarbeit-ta-ii/
LOCATION:Logenhaus Köln
ORGANIZER;CN="Zur Oberbergischen Treue e.V.":MAILTO:sekretaer@freimaurer-gummersbach.de
END:VEVENT
END:VCALENDAR