BEGIN:VCALENDAR
VERSION:2.0
PRODID:-//Freimaurer - Zur Oberbergischen Treue - ECPv6.15.20//NONSGML v1.0//EN
CALSCALE:GREGORIAN
METHOD:PUBLISH
X-ORIGINAL-URL:https://freimaurer-gummersbach.de
X-WR-CALDESC:Veranstaltungen für Freimaurer - Zur Oberbergischen Treue
REFRESH-INTERVAL;VALUE=DURATION:PT1H
X-Robots-Tag:noindex
X-PUBLISHED-TTL:PT1H
BEGIN:VTIMEZONE
TZID:Europe/Berlin
BEGIN:DAYLIGHT
TZOFFSETFROM:+0100
TZOFFSETTO:+0200
TZNAME:CEST
DTSTART:20230326T010000
END:DAYLIGHT
BEGIN:STANDARD
TZOFFSETFROM:+0200
TZOFFSETTO:+0100
TZNAME:CET
DTSTART:20231029T010000
END:STANDARD
BEGIN:DAYLIGHT
TZOFFSETFROM:+0100
TZOFFSETTO:+0200
TZNAME:CEST
DTSTART:20240331T010000
END:DAYLIGHT
BEGIN:STANDARD
TZOFFSETFROM:+0200
TZOFFSETTO:+0100
TZNAME:CET
DTSTART:20241027T010000
END:STANDARD
BEGIN:DAYLIGHT
TZOFFSETFROM:+0100
TZOFFSETTO:+0200
TZNAME:CEST
DTSTART:20250330T010000
END:DAYLIGHT
BEGIN:STANDARD
TZOFFSETFROM:+0200
TZOFFSETTO:+0100
TZNAME:CET
DTSTART:20251026T010000
END:STANDARD
END:VTIMEZONE
BEGIN:VEVENT
DTSTART;TZID=Europe/Berlin:20241204T190000
DTEND;TZID=Europe/Berlin:20241204T220000
DTSTAMP:20260424T205903
CREATED:20240904T203758Z
LAST-MODIFIED:20241118T112445Z
UID:192-1733338800-1733349600@freimaurer-gummersbach.de
SUMMARY:Gästeabend
DESCRIPTION:Öffentlicher Gästeabend im Schlosshotel Gimborn (Schlossstraße 15\, 51709 Marienheide). \nWir hören einen Vortrag von unserem Br. Daniel\, zum Thema „Moral und Ethik“. \nAnmeldungen zu all unseren öffentlichen Gästeabenden bitte formlos per Email an: sekretaer@freimaurer-gummersbach.de \n  \n 
URL:https://freimaurer-gummersbach.de/events/gaesteabend-2/
LOCATION:Schlosshotel Gimborn\, Schlossstraße 15\, Marienheide\, 51709\, Germany
ORGANIZER;CN="Zur Oberbergischen Treue e.V.":MAILTO:sekretaer@freimaurer-gummersbach.de
END:VEVENT
BEGIN:VEVENT
DTSTART;TZID=Europe/Berlin:20241207T180000
DTEND;TZID=Europe/Berlin:20241207T220000
DTSTAMP:20260424T205903
CREATED:20240904T203854Z
LAST-MODIFIED:20241118T112601Z
UID:194-1733594400-1733608800@freimaurer-gummersbach.de
SUMMARY:Veranstaltung mit Srr.
DESCRIPTION:Weihnachtsfeier mit Srr. und geladenen Gästen. Es ergeht  noch eine gesonderte Einladung.
URL:https://freimaurer-gummersbach.de/events/veranstaltung-mit-srr-2/
LOCATION:Schlosshotel Gimborn\, Schlossstraße 15\, Marienheide\, 51709\, Germany
ORGANIZER;CN="Zur Oberbergischen Treue e.V.":MAILTO:sekretaer@freimaurer-gummersbach.de
END:VEVENT
BEGIN:VEVENT
DTSTART;TZID=Europe/Berlin:20241218T190000
DTEND;TZID=Europe/Berlin:20241218T220000
DTSTAMP:20260424T205903
CREATED:20240904T203946Z
LAST-MODIFIED:20241119T110701Z
UID:196-1734548400-1734559200@freimaurer-gummersbach.de
SUMMARY:Bruderabend
DESCRIPTION:Bruderabend\, mit Planung des Arbeitskalenders 2025\, im Schlosshotel Gimborn.
URL:https://freimaurer-gummersbach.de/events/bruderabend-2/
LOCATION:Schlosshotel Gimborn\, Schlossstraße 15\, Marienheide\, 51709\, Germany
ORGANIZER;CN="Zur Oberbergischen Treue e.V.":MAILTO:sekretaer@freimaurer-gummersbach.de
END:VEVENT
END:VCALENDAR