BEGIN:VCALENDAR
VERSION:2.0
PRODID:-//Freimaurer - Zur Oberbergischen Treue - ECPv6.15.20//NONSGML v1.0//EN
CALSCALE:GREGORIAN
METHOD:PUBLISH
X-ORIGINAL-URL:https://freimaurer-gummersbach.de
X-WR-CALDESC:Veranstaltungen für Freimaurer - Zur Oberbergischen Treue
REFRESH-INTERVAL;VALUE=DURATION:PT1H
X-Robots-Tag:noindex
X-PUBLISHED-TTL:PT1H
BEGIN:VTIMEZONE
TZID:Europe/Berlin
BEGIN:DAYLIGHT
TZOFFSETFROM:+0100
TZOFFSETTO:+0200
TZNAME:CEST
DTSTART:20230326T010000
END:DAYLIGHT
BEGIN:STANDARD
TZOFFSETFROM:+0200
TZOFFSETTO:+0100
TZNAME:CET
DTSTART:20231029T010000
END:STANDARD
BEGIN:DAYLIGHT
TZOFFSETFROM:+0100
TZOFFSETTO:+0200
TZNAME:CEST
DTSTART:20240331T010000
END:DAYLIGHT
BEGIN:STANDARD
TZOFFSETFROM:+0200
TZOFFSETTO:+0100
TZNAME:CET
DTSTART:20241027T010000
END:STANDARD
BEGIN:DAYLIGHT
TZOFFSETFROM:+0100
TZOFFSETTO:+0200
TZNAME:CEST
DTSTART:20250330T010000
END:DAYLIGHT
BEGIN:STANDARD
TZOFFSETFROM:+0200
TZOFFSETTO:+0100
TZNAME:CET
DTSTART:20251026T010000
END:STANDARD
END:VTIMEZONE
BEGIN:VEVENT
DTSTART;TZID=Europe/Berlin:20241106T190000
DTEND;TZID=Europe/Berlin:20241106T220000
DTSTAMP:20260424T223519
CREATED:20240904T203511Z
LAST-MODIFIED:20241103T094352Z
UID:186-1730919600-1730930400@freimaurer-gummersbach.de
SUMMARY:Gästeabend
DESCRIPTION:Öffentlicher Gästeabend im Schlosshotel Gimborn\, Schlossstraße 15\, 51709 Marienheide. \nBr. Dietmar hat einen Impulsvortrag mit dem Thema: „Bruder – nur ein Lippenbekenntnis?“ vorbereitet. \nIm Anschluss an seinen Vortrag kann darüber gerne diskutiert werden. Wir beantworten aber auch Ihre allgemeinen Fragen\, die Sie zum Thema Freimaurerei\, stellen möchten. \nAnmeldungen zu diesem Gästeabend senden Sie bitte an die folgende eMail-Adresse: kontakt@freimaurer-gummersbach.de \n  \nWir freuen uns auf Ihren Besuch. \n  \n 
URL:https://freimaurer-gummersbach.de/events/gaesteabend/
END:VEVENT
BEGIN:VEVENT
DTSTART;TZID=Europe/Berlin:20241113T193000
DTEND;TZID=Europe/Berlin:20241113T220000
DTSTAMP:20260424T223519
CREATED:20240904T203617Z
LAST-MODIFIED:20241105T160045Z
UID:188-1731526200-1731535200@freimaurer-gummersbach.de
SUMMARY:Veranstaltung mit Srr.
DESCRIPTION:Im Tempel der Siegener Loge „Zu den drei eisernen Bergen“ möchten wir nach einem frm. Zeremoniell den Lebensbund von Sr. Doro und Br. Axel bekräftigen.
URL:https://freimaurer-gummersbach.de/events/veranstaltung-mit-srr/
END:VEVENT
BEGIN:VEVENT
DTSTART;TZID=Europe/Berlin:20241127T193000
DTEND;TZID=Europe/Berlin:20241127T220000
DTSTAMP:20260424T223519
CREATED:20240904T203712Z
LAST-MODIFIED:20240904T203712Z
UID:190-1732735800-1732744800@freimaurer-gummersbach.de
SUMMARY:TA I (nur für Brüder)
DESCRIPTION:Trauerloge\, gemeinsam mit der Loge AM\, im kleinen Tempel des Kölner Logenhauses.\nEintreffen der Brr. ab 19.30 Uhr.
URL:https://freimaurer-gummersbach.de/events/ta-i-nur-fuer-brueder-3/
END:VEVENT
END:VCALENDAR