BEGIN:VCALENDAR
VERSION:2.0
PRODID:-//Freimaurer - Zur Oberbergischen Treue - ECPv6.15.20//NONSGML v1.0//EN
CALSCALE:GREGORIAN
METHOD:PUBLISH
X-ORIGINAL-URL:https://freimaurer-gummersbach.de
X-WR-CALDESC:Veranstaltungen für Freimaurer - Zur Oberbergischen Treue
REFRESH-INTERVAL;VALUE=DURATION:PT1H
X-Robots-Tag:noindex
X-PUBLISHED-TTL:PT1H
BEGIN:VTIMEZONE
TZID:Europe/Berlin
BEGIN:DAYLIGHT
TZOFFSETFROM:+0100
TZOFFSETTO:+0200
TZNAME:CEST
DTSTART:20230326T010000
END:DAYLIGHT
BEGIN:STANDARD
TZOFFSETFROM:+0200
TZOFFSETTO:+0100
TZNAME:CET
DTSTART:20231029T010000
END:STANDARD
BEGIN:DAYLIGHT
TZOFFSETFROM:+0100
TZOFFSETTO:+0200
TZNAME:CEST
DTSTART:20240331T010000
END:DAYLIGHT
BEGIN:STANDARD
TZOFFSETFROM:+0200
TZOFFSETTO:+0100
TZNAME:CET
DTSTART:20241027T010000
END:STANDARD
BEGIN:DAYLIGHT
TZOFFSETFROM:+0100
TZOFFSETTO:+0200
TZNAME:CEST
DTSTART:20250330T010000
END:DAYLIGHT
BEGIN:STANDARD
TZOFFSETFROM:+0200
TZOFFSETTO:+0100
TZNAME:CET
DTSTART:20251026T010000
END:STANDARD
END:VTIMEZONE
BEGIN:VEVENT
DTSTART;TZID=Europe/Berlin:20241005T110000
DTEND;TZID=Europe/Berlin:20241005T150000
DTSTAMP:20260425T000705
CREATED:20240904T203330Z
LAST-MODIFIED:20240904T203330Z
UID:182-1728126000-1728140400@freimaurer-gummersbach.de
SUMMARY:TA I (nur für Brüder)
DESCRIPTION:Die Loge „Zum Märkischen Hammer“ lädt zu einer Lehrart übergreifenden Tempelarbeit mit Tafelloge\, für Samstag\, den 05.10.2024 um 11Uhr ein. \nDie offizielle Einladung mit Details folgt später. \nJohannisloge “ZUM MÄRKISCHEN HAMMER“\nFreiherr-vom-Stein-Strasse 20\n58511 Lüdenscheid
URL:https://freimaurer-gummersbach.de/events/ta-i-nur-fuer-brueder/
END:VEVENT
BEGIN:VEVENT
DTSTART;TZID=Europe/Berlin:20241009T190000
DTEND;TZID=Europe/Berlin:20241009T210000
DTSTAMP:20260425T000705
CREATED:20240904T202932Z
LAST-MODIFIED:20240904T203023Z
UID:177-1728500400-1728507600@freimaurer-gummersbach.de
SUMMARY:Gästeabend
DESCRIPTION:Öffentlicher Gästeabend im Brauhaus Gummersbach. Wir hören einen Vortrag mit dem Thema „Freimaurer – die ewig Suchenden“\nEs folgt noch eine Einladung in der örtlichen Presse.
URL:https://freimaurer-gummersbach.de/events/stammtisch-2/
END:VEVENT
BEGIN:VEVENT
DTSTART;TZID=Europe/Berlin:20241016T190000
DTEND;TZID=Europe/Berlin:20241016T210000
DTSTAMP:20260425T000705
CREATED:20240904T204503Z
LAST-MODIFIED:20240904T204503Z
UID:198-1729105200-1729112400@freimaurer-gummersbach.de
SUMMARY:TA I (nur für Brüder)
DESCRIPTION:Tempelarbeit im Lehrlingsgrad im Tempel der Loge „Zu den drei eisernen Bergen“ i. O. Siegen.
URL:https://freimaurer-gummersbach.de/events/ta-i-nur-fuer-brueder-2/
END:VEVENT
END:VCALENDAR